BEGIN:VCALENDAR
VERSION:2.0
PRODID:-//bobbin v0.1//NONSGML iCal Writer//EN
CALSCALE:GREGORIAN
METHOD:PUBLISH
BEGIN:VEVENT
DESCRIPTION:Dieser Kurs gilt als Nachweis für die erfolgte Unterweisung in lebensrettenden Sofortmaßnahmen entsprechend der Führerscheingesetz-DV 1997, § 6.Inhalte sind:* Grundlagen der Ersten Hilfe (Rettungskette, Notruf, Lagerungen,…)* Regloser Notfallpatient* Starke Blutung
DTSTAMP:20260422T110255Z
DTSTART:20260718T070000Z
DTEND:20260718T130000Z
LOCATION:94 Schulung 1, 6850 Vorarlberg, Höchsterstraße 36a
UID:Vorarlberg.92600280.20260718T070000Z@roteskreuz.at
CREATED:20260422T110255Z
LAST-MODIFIED:20260422T110255Z
SEQUENCE:0
STATUS:CONFIRMED
SUMMARY:Erste-Hilfe-Führerscheinkurs in Fahrschulen (6h)
TRANSP:OPAQUE
END:VEVENT
END:VCALENDAR
